BEGIN:VCALENDAR
VERSION:2.0
PRODID:-//Albuquerque Alcoholics Anonymous - ECPv6.15.20//NONSGML v1.0//EN
CALSCALE:GREGORIAN
METHOD:PUBLISH
X-WR-CALNAME:Albuquerque Alcoholics Anonymous
X-ORIGINAL-URL:https://albuquerqueaa.org
X-WR-CALDESC:Events for Albuquerque Alcoholics Anonymous
REFRESH-INTERVAL;VALUE=DURATION:PT1H
X-Robots-Tag:noindex
X-PUBLISHED-TTL:PT1H
BEGIN:VTIMEZONE
TZID:America/Denver
BEGIN:DAYLIGHT
TZOFFSETFROM:-0700
TZOFFSETTO:-0600
TZNAME:MDT
DTSTART:20240310T090000
END:DAYLIGHT
BEGIN:STANDARD
TZOFFSETFROM:-0600
TZOFFSETTO:-0700
TZNAME:MST
DTSTART:20241103T080000
END:STANDARD
BEGIN:DAYLIGHT
TZOFFSETFROM:-0700
TZOFFSETTO:-0600
TZNAME:MDT
DTSTART:20250309T090000
END:DAYLIGHT
BEGIN:STANDARD
TZOFFSETFROM:-0600
TZOFFSETTO:-0700
TZNAME:MST
DTSTART:20251102T080000
END:STANDARD
BEGIN:DAYLIGHT
TZOFFSETFROM:-0700
TZOFFSETTO:-0600
TZNAME:MDT
DTSTART:20260308T090000
END:DAYLIGHT
BEGIN:STANDARD
TZOFFSETFROM:-0600
TZOFFSETTO:-0700
TZNAME:MST
DTSTART:20261101T080000
END:STANDARD
BEGIN:DAYLIGHT
TZOFFSETFROM:-0700
TZOFFSETTO:-0600
TZNAME:MDT
DTSTART:20270314T090000
END:DAYLIGHT
BEGIN:STANDARD
TZOFFSETFROM:-0600
TZOFFSETTO:-0700
TZNAME:MST
DTSTART:20271107T080000
END:STANDARD
END:VTIMEZONE
BEGIN:VEVENT
DTSTART;TZID=America/Denver:20251214T140000
DTEND;TZID=America/Denver:20251214T150000
DTSTAMP:20260419T174959
CREATED:20251213T042143Z
LAST-MODIFIED:20251214T204751Z
UID:11858-1765720800-1765724400@albuquerqueaa.org
SUMMARY:Intergroup Monthly Meeting
DESCRIPTION:Intergroup Monthly Meeting \nSecond Sunday Monthly \n \n 
URL:https://albuquerqueaa.org/event/intergroup-monthly-meeting/
LOCATION:Central Office\, 1900 Alvarado\, Albuquerque\, NM\, 87110\, United States
END:VEVENT
BEGIN:VEVENT
DTSTART;TZID=America/Denver:20251215T183000
DTEND;TZID=America/Denver:20251215T193000
DTSTAMP:20260419T174959
CREATED:20251124T221900Z
LAST-MODIFIED:20251124T221904Z
UID:11780-1765823400-1765827000@albuquerqueaa.org
SUMMARY:Serenity Group Holiday Potluck
DESCRIPTION:Serenity Group Holiday Potluck \n \nClick flyer to download \nMore events at nm-aa.org
URL:https://albuquerqueaa.org/event/serenity-group-holiday-potluck/
LOCATION:St. Michael & All Angels Church\, 601 Montano Rd NW\, Albuquerque\, NM\, 87107\, United States
END:VEVENT
BEGIN:VEVENT
DTSTART;TZID=America/Denver:20251217T173000
DTEND;TZID=America/Denver:20251217T193000
DTSTAMP:20260419T174959
CREATED:20251123T062110Z
LAST-MODIFIED:20251123T063405Z
UID:11748-1765992600-1765999800@albuquerqueaa.org
SUMMARY:SMBS Holiday Potluck 2025
DESCRIPTION:SMBS Holiday Potluck 2025 \nClick on flyer to download \n \nArea 46 events calendar
URL:https://albuquerqueaa.org/event/smbs-holiday-potluck-2025/
LOCATION:St. Mary’s Episcopal Church\, 1500 Chelwood Park Blvd NE\, Albuquerque\, NM\, 87112\, United States
END:VEVENT
BEGIN:VEVENT
DTSTART;TZID=America/Denver:20251219T180000
DTEND;TZID=America/Denver:20251219T203000
DTSTAMP:20260419T174959
CREATED:20251123T072943Z
LAST-MODIFIED:20251123T073158Z
UID:11774-1766167200-1766176200@albuquerqueaa.org
SUMMARY:Ugly Xmas Sweater Party!
DESCRIPTION:Ugly Xmas Sweater Party! \nClick flyer to download \n \nArea46 Calendar Link
URL:https://albuquerqueaa.org/event/ugly-xmas-sweater-party/
LOCATION:St. Francis Episcopal Church\, 2903 Cabezon Blvd SE\, Albuquerque\, NM\, 87124\, United States
END:VEVENT
BEGIN:VEVENT
DTSTART;TZID=America/Denver:20251224T120000
DTEND;TZID=America/Denver:20251224T120000
DTSTAMP:20260419T174959
CREATED:20251130T200114Z
LAST-MODIFIED:20251130T200559Z
UID:11835-1766577600-1766577600@albuquerqueaa.org
SUMMARY:Christmas Alcathon 2025
DESCRIPTION:Christmas Alcathon 2025 \nIn person and Online \nClick on flyer to download \n \nMore events at nm-aa.org
URL:https://albuquerqueaa.org/event/christmas-alcathon-2025/
LOCATION:Foothills Group\, 11607 Manaul Blvd NE\, Albuquerque\, NM\, 87112\, United States
END:VEVENT
BEGIN:VEVENT
DTSTART;TZID=America/Denver:20251227T193000
DTEND;TZID=America/Denver:20251227T235900
DTSTAMP:20260419T174959
CREATED:20251219T225453Z
LAST-MODIFIED:20251222T160318Z
UID:11890-1766863800-1766879940@albuquerqueaa.org
SUMMARY:NYE BrownBagger Bash
DESCRIPTION:NYE BrownBagger Bash \n \n 
URL:https://albuquerqueaa.org/event/nye-brownbagger-bash/
LOCATION:BMO Building\, 500 Marquette Blvd NW\, Albuquerque\, NM\, 87102\, United States
END:VEVENT
BEGIN:VEVENT
DTSTART;TZID=America/Denver:20251230T180000
DTEND;TZID=America/Denver:20251230T200000
DTSTAMP:20260419T174959
CREATED:20251218T043158Z
LAST-MODIFIED:20251218T043201Z
UID:11879-1767117600-1767124800@albuquerqueaa.org
SUMMARY:Pre-NYE B-Day Meeting
DESCRIPTION:Pre-NYE B-Day Meeting \n \nStatewide events at NM-AA.org
URL:https://albuquerqueaa.org/event/pre-nye-b-day-meeting/
LOCATION:Immanuel Presbyterian Church\, 114 Carlisle Blvd SE\, Albuquerque\, NM\, 87106\, United States
END:VEVENT
BEGIN:VEVENT
DTSTART;TZID=America/Denver:20251231T120000
DTEND;TZID=America/Denver:20260101T120000
DTSTAMP:20260419T174959
CREATED:20251231T195643Z
LAST-MODIFIED:20251231T195643Z
UID:11941-1767182400-1767268800@albuquerqueaa.org
SUMMARY:Alcathon Mesa Club
DESCRIPTION:Alcathon Mesa Club \nNoon to Noon \nFor more events
URL:https://albuquerqueaa.org/event/alcathon-mesa-club/
LOCATION:Mesa Club\, 3301 Southern Blvd SE\, Rio Rancho\, NM\, 87124\, United States
END:VEVENT
BEGIN:VEVENT
DTSTART;TZID=America/Denver:20251231T120000
DTEND;TZID=America/Denver:20260101T130000
DTSTAMP:20260419T174959
CREATED:20251129T234715Z
LAST-MODIFIED:20251129T235157Z
UID:11829-1767182400-1767272400@albuquerqueaa.org
SUMMARY:New Year's Foothills Style
DESCRIPTION:New Year’s Foothills Style \nClick flyer to download \n \nMore at nm-aa.org
URL:https://albuquerqueaa.org/event/new-years-foothills-style/
LOCATION:Foothills Group\, 11607 Manaul Blvd NE\, Albuquerque\, NM\, 87112\, United States
END:VEVENT
BEGIN:VEVENT
DTSTART;TZID=America/Denver:20251231T180000
DTEND;TZID=America/Denver:20260101T120000
DTSTAMP:20260419T174959
CREATED:20251231T193929Z
LAST-MODIFIED:20251231T194155Z
UID:11937-1767204000-1767268800@albuquerqueaa.org
SUMMARY:Alcathon Isleta Style
DESCRIPTION:  \nAlcathon Isleta Style \n6:30 Speaker(Rated G) \n9:00pm-12:30am Music and Dance \nAlcathon til Noon on New Years Day \nNo Flyer yet! \n \nMore events here
URL:https://albuquerqueaa.org/event/alcathon-isleta-style/
LOCATION:Isleta Club\, 1829 Isleta Blvd SW\, Albuquerque\, NM\, 87105\, United States
END:VEVENT
BEGIN:VEVENT
DTSTART;TZID=America/Denver:20251231T210000
DTEND;TZID=America/Denver:20260101T220000
DTSTAMP:20260419T174959
CREATED:20251231T201440Z
LAST-MODIFIED:20251231T201451Z
UID:11944-1767214800-1767304800@albuquerqueaa.org
SUMMARY:Alcathon Heights Club
DESCRIPTION:Alcathon Heights Club \n \nHeights Club Site
URL:https://albuquerqueaa.org/event/alcathon-heights-club/
LOCATION:Heights Club\, 8520 Marble Ave NE\, Albuquerque\, NM\, 87110\, United States
END:VEVENT
BEGIN:VEVENT
DTSTART;VALUE=DATE:20260101
DTEND;VALUE=DATE:20260102
DTSTAMP:20260419T174959
CREATED:20251015T170018Z
LAST-MODIFIED:20251207T155237Z
UID:11597-1767225600-1767311999@albuquerqueaa.org
SUMMARY:New Year's Day
DESCRIPTION:New Year’s Day Stay Safe! \nHappy New Year from all of us at Central Office!\nAA.org
URL:https://albuquerqueaa.org/event/new-years-day/
LOCATION:Central Office\, 1900 Alvarado\, Albuquerque\, NM\, 87110\, United States
END:VEVENT
BEGIN:VEVENT
DTSTART;TZID=America/Denver:20260101T123000
DTEND;TZID=America/Denver:20260101T150000
DTSTAMP:20260419T174959
CREATED:20251217T020435Z
LAST-MODIFIED:20251217T020438Z
UID:11874-1767270600-1767279600@albuquerqueaa.org
SUMMARY:Indian Taco Sale
DESCRIPTION:Indian Taco Sale \nA Fundraiser for Red Road AA Convention \n \nnm-aa.org
URL:https://albuquerqueaa.org/event/indian-taco-sale/
LOCATION:Monte Vista Church\, 3501 Campus Blvd NE\, Albuquerque\, NM\, 87106\, United States
END:VEVENT
BEGIN:VEVENT
DTSTART;TZID=America/Denver:20260106T190000
DTEND;TZID=America/Denver:20260106T200000
DTSTAMP:20260419T174959
CREATED:20251220T030650Z
LAST-MODIFIED:20251221T192808Z
UID:11896-1767726000-1767729600@albuquerqueaa.org
SUMMARY:Read Joe & Charlie
DESCRIPTION:Read Joe & Charlie \n \nCome join us every Tuesday at 7pm
URL:https://albuquerqueaa.org/event/read-joe-charlie/
LOCATION:Our Savior Lutheran Church\, 4301 Atrisco Dr. NW\, Albuquerque\, NM\, 87120\, United States
END:VEVENT
BEGIN:VEVENT
DTSTART;TZID=America/Denver:20260131T133000
DTEND;TZID=America/Denver:20260131T153000
DTSTAMP:20260419T174959
CREATED:20260114T162920Z
LAST-MODIFIED:20260118T201556Z
UID:11959-1769866200-1769873400@albuquerqueaa.org
SUMMARY:Treatment Center Roundtable Discussion
DESCRIPTION:Treatment Center Roundtable Discussion \nSponsored by the Happy Hour Group \n \nPOTLUCK PLEASE BRING A DISH \nHEIGHTS CLUB\n8520 MARBLE AVE NE\nALBUQUERQUE NM 85110\n505-266-8952 \nHTTPS://HEIGHTSCLUB.COM
URL:https://albuquerqueaa.org/event/treatment-center-roundtable-discussion/
LOCATION:Heights Club\, 8520 Marble Ave NE\, Albuquerque\, NM\, 87110\, United States
CATEGORIES:Potluck,Workshop
END:VEVENT
BEGIN:VEVENT
DTSTART;TZID=America/Denver:20260208T160000
DTEND;TZID=America/Denver:20260208T220000
DTSTAMP:20260419T174959
CREATED:20260206T171642Z
LAST-MODIFIED:20260206T190525Z
UID:12021-1770566400-1770588000@albuquerqueaa.org
SUMMARY:Super Bowl Event
DESCRIPTION:Super Bowl Event \nAt the Heights Club \n \nHeights Club Website
URL:https://albuquerqueaa.org/event/super-bowl-event/
LOCATION:Heights Club\, 8520 Marble Ave NE\, Albuquerque\, NM\, 87110\, United States
END:VEVENT
BEGIN:VEVENT
DTSTART;TZID=America/Denver:20260214T113000
DTEND;TZID=America/Denver:20260214T133000
DTSTAMP:20260419T174959
CREATED:20260114T162325Z
LAST-MODIFIED:20260114T203720Z
UID:11955-1771068600-1771075800@albuquerqueaa.org
SUMMARY:GSR Orientation 2026
DESCRIPTION:GSR ORIENTATION 2026\nBrought to you by districts 11\, 12 & 13\nSweets & Coffee provided \n🐝 ❤HYBRID EVENT❤🐝 \nZOOM: Meeting ID: 880 2387 7930 Passcode: 953243\nSat February 14th at 11:30am\nMetropolitan Community Church: 1103 Texas St NE \nWho should come: GSR’s\, Alt GSR’s\, anyone interested in general service 🐝\nWhat to bring: questions\, service manuals\, note taking stuff\nreach out to: district12email@gmail.com for details \nMore About GSR at NM-aa.org
URL:https://albuquerqueaa.org/event/gsr-orientation-2026/
LOCATION:Metropolitan Community Church\, 1103 Texas St NE\, Albuquerque\, 87110\, United States
CATEGORIES:Workshop
END:VEVENT
BEGIN:VEVENT
DTSTART;TZID=America/Denver:20260214T130000
DTEND;TZID=America/Denver:20260214T150000
DTSTAMP:20260419T174959
CREATED:20260131T015717Z
LAST-MODIFIED:20260131T015717Z
UID:12013-1771074000-1771081200@albuquerqueaa.org
SUMMARY:Valentines Spaghetti
DESCRIPTION:Valentines Spaghetti \n \nFor more events at nm-aa.org
URL:https://albuquerqueaa.org/event/valentines-spaghetti/
LOCATION:Isleta Club\, 1829 Isleta Blvd SW\, Albuquerque\, NM\, 87105\, United States
END:VEVENT
BEGIN:VEVENT
DTSTART;TZID=America/Denver:20260214T190000
DTEND;TZID=America/Denver:20260214T220000
DTSTAMP:20260419T174959
CREATED:20260116T152106Z
LAST-MODIFIED:20260116T153416Z
UID:11972-1771095600-1771106400@albuquerqueaa.org
SUMMARY:Valentine's Day Party
DESCRIPTION:Valentine’s Day Party \n \nMore Events at nm-aa.org
URL:https://albuquerqueaa.org/event/valentines-day-party/
LOCATION:Brown Baggers\, 5914 Woodford Dr NE\, Albuquerque\, NM\, 87110\, United States
CATEGORIES:Dance,Potluck
END:VEVENT
BEGIN:VEVENT
DTSTART;TZID=America/Denver:20260215T143000
DTEND;TZID=America/Denver:20260215T163000
DTSTAMP:20260419T174959
CREATED:20260116T223523Z
LAST-MODIFIED:20260116T223523Z
UID:11979-1771165800-1771173000@albuquerqueaa.org
SUMMARY:Sweet Heart Bingo
DESCRIPTION:Sweet Heart Bingo \nRed Road Fundraiser \n \nMore Events at nm-aa.org
URL:https://albuquerqueaa.org/event/sweet-heart-bingo/
LOCATION:Monte Vista Church\, 3501 Campus Blvd NE\, Albuquerque\, NM\, 87106\, United States
END:VEVENT
BEGIN:VEVENT
DTSTART;TZID=America/Denver:20260221T150000
DTEND;TZID=America/Denver:20260221T190000
DTSTAMP:20260419T174959
CREATED:20260120T204533Z
LAST-MODIFIED:20260120T204903Z
UID:11985-1771686000-1771700400@albuquerqueaa.org
SUMMARY:Winter Bash 69
DESCRIPTION:Winter Bash 69 \nSPONSORED BY EARLY BIRDS\, 6 O’CLOCK IRREGULARS\, \nTUESDAY KNIGHTS AND SISTERS OF SOBRIETY AA GROUPS \n \nMore events at nm-aa.org
URL:https://albuquerqueaa.org/event/winter-bash-69/
LOCATION:Desert Club\, 4305 Mesa Grande Pl SE\, Albuquerque\, NM\, 87108\, United States
END:VEVENT
BEGIN:VEVENT
DTSTART;TZID=America/Denver:20260222T120000
DTEND;TZID=America/Denver:20260222T130000
DTSTAMP:20260419T174959
CREATED:20260210T002823Z
LAST-MODIFIED:20260210T002823Z
UID:12034-1771761600-1771765200@albuquerqueaa.org
SUMMARY:Burqypaa Bid Committee Elections
DESCRIPTION:BurqypAA Bid Committee Elections \n \nMore Events at nm-aa.org
URL:https://albuquerqueaa.org/event/burqypaa-bid-committee-elections/
LOCATION:Desert Club\, 4305 Mesa Grande Pl SE\, Albuquerque\, NM\, 87108\, United States
END:VEVENT
BEGIN:VEVENT
DTSTART;TZID=America/Denver:20260228T093000
DTEND;TZID=America/Denver:20260228T113000
DTSTAMP:20260419T174959
CREATED:20260220T170708Z
LAST-MODIFIED:20260220T171202Z
UID:12066-1772271000-1772278200@albuquerqueaa.org
SUMMARY:Zoom Workshop
DESCRIPTION:Zoom Workshop \n \nZoom Here
URL:https://albuquerqueaa.org/event/zoom-workshop/
LOCATION:Isleta Club\, 1829 Isleta Blvd SW\, Albuquerque\, NM\, 87105\, United States
END:VEVENT
BEGIN:VEVENT
DTSTART;TZID=America/Denver:20260321T130000
DTEND;TZID=America/Denver:20260321T153000
DTSTAMP:20260419T174959
CREATED:20260122T041930Z
LAST-MODIFIED:20260122T041930Z
UID:11989-1774098000-1774107000@albuquerqueaa.org
SUMMARY:Speaker Event & Fundraiser
DESCRIPTION:Speaker Event & Fundraiser for Central Office \n \nMore Events at nm-aa.org
URL:https://albuquerqueaa.org/event/speaker-event-fundraiser/
LOCATION:Monte Vista Church\, 3501 Campus Blvd NE\, Albuquerque\, NM\, 87106\, United States
END:VEVENT
BEGIN:VEVENT
DTSTART;TZID=America/Denver:20260328T070000
DTEND;TZID=America/Denver:20260328T083000
DTSTAMP:20260419T174959
CREATED:20260304T023124Z
LAST-MODIFIED:20260304T023124Z
UID:12082-1774681200-1774686600@albuquerqueaa.org
SUMMARY:Sunrise Catcher's 30th
DESCRIPTION:Sunrise Catcher’s 30th \n \nMore Events at nm-aa.org
URL:https://albuquerqueaa.org/event/sunrise-catchers-30th/
LOCATION:Isleta Club\, 1829 Isleta Blvd SW\, Albuquerque\, NM\, 87105\, United States
END:VEVENT
BEGIN:VEVENT
DTSTART;TZID=America/Denver:20260328T180000
DTEND;TZID=America/Denver:20260328T200000
DTSTAMP:20260419T174959
CREATED:20260208T182637Z
LAST-MODIFIED:20260215T175801Z
UID:12031-1774720800-1774728000@albuquerqueaa.org
SUMMARY:Intergroup Potluck Speaker Meeting
DESCRIPTION:Intergroup Potluck Speaker Meeting \n \nMore events at nm-aa.org
URL:https://albuquerqueaa.org/event/intergroup-potluck-speaker-meeting/
LOCATION:Desert Club\, 4305 Mesa Grande Pl SE\, Albuquerque\, NM\, 87108\, United States
END:VEVENT
BEGIN:VEVENT
DTSTART;TZID=America/Denver:20260411T180000
DTEND;TZID=America/Denver:20260411T210000
DTSTAMP:20260419T174959
CREATED:20260312T151906Z
LAST-MODIFIED:20260312T151906Z
UID:12097-1775930400-1775941200@albuquerqueaa.org
SUMMARY:Spring Fundraiser Dinner
DESCRIPTION:Spring Fundraiser Dinner \n \nMore events at nm-aa.org
URL:https://albuquerqueaa.org/event/spring-fundraiser-dinner/
LOCATION:St. Therese Parish Hall\, 212 Mildred NW\, Albuquerque\, NM\, 87107\, United States
END:VEVENT
BEGIN:VEVENT
DTSTART;TZID=America/Denver:20260412T120000
DTEND;TZID=America/Denver:20260412T150000
DTSTAMP:20260419T174959
CREATED:20260317T171216Z
LAST-MODIFIED:20260317T171216Z
UID:12119-1775995200-1776006000@albuquerqueaa.org
SUMMARY:Speaker in the Park
DESCRIPTION:Speaker in the Park \n \nRed Road Convention Registration
URL:https://albuquerqueaa.org/event/speaker-in-the-park/
LOCATION:Alvarado Park\, 2000 Alvarado Dr NE\,\, Albuquerque\, NM\, 87110\, United States
END:VEVENT
BEGIN:VEVENT
DTSTART;TZID=America/Denver:20260418T193000
DTEND;TZID=America/Denver:20260418T213000
DTSTAMP:20260419T174959
CREATED:20260407T024956Z
LAST-MODIFIED:20260407T024956Z
UID:12157-1776540600-1776547800@albuquerqueaa.org
SUMMARY:Bingo!
DESCRIPTION:Bingo! \nAt the Bag \n \nMore events at nm-aa.org
URL:https://albuquerqueaa.org/event/bingo/
LOCATION:Brown Baggers\, 5914 Woodford Dr NE\, Albuquerque\, NM\, 87110\, United States
END:VEVENT
BEGIN:VEVENT
DTSTART;TZID=America/Denver:20260425T120000
DTEND;TZID=America/Denver:20260425T150000
DTSTAMP:20260419T174959
CREATED:20260414T144517Z
LAST-MODIFIED:20260414T144517Z
UID:12171-1777118400-1777129200@albuquerqueaa.org
SUMMARY:Christmas In April
DESCRIPTION:Christmas In April \n \n 
URL:https://albuquerqueaa.org/event/christmas-in-april/
LOCATION:Endorphin Power Company\, 509 Cardenas Drive SE\, Albuquerque\, NM\, 87108\, United States
END:VEVENT
END:VCALENDAR