BEGIN:VCALENDAR
VERSION:2.0
PRODID:-//Albuquerque Alcoholics Anonymous - ECPv6.15.20//NONSGML v1.0//EN
CALSCALE:GREGORIAN
METHOD:PUBLISH
X-WR-CALNAME:Albuquerque Alcoholics Anonymous
X-ORIGINAL-URL:https://albuquerqueaa.org
X-WR-CALDESC:Events for Albuquerque Alcoholics Anonymous
REFRESH-INTERVAL;VALUE=DURATION:PT1H
X-Robots-Tag:noindex
X-PUBLISHED-TTL:PT1H
BEGIN:VTIMEZONE
TZID:America/Denver
BEGIN:DAYLIGHT
TZOFFSETFROM:-0700
TZOFFSETTO:-0600
TZNAME:MDT
DTSTART:20240310T090000
END:DAYLIGHT
BEGIN:STANDARD
TZOFFSETFROM:-0600
TZOFFSETTO:-0700
TZNAME:MST
DTSTART:20241103T080000
END:STANDARD
BEGIN:DAYLIGHT
TZOFFSETFROM:-0700
TZOFFSETTO:-0600
TZNAME:MDT
DTSTART:20250309T090000
END:DAYLIGHT
BEGIN:STANDARD
TZOFFSETFROM:-0600
TZOFFSETTO:-0700
TZNAME:MST
DTSTART:20251102T080000
END:STANDARD
BEGIN:DAYLIGHT
TZOFFSETFROM:-0700
TZOFFSETTO:-0600
TZNAME:MDT
DTSTART:20260308T090000
END:DAYLIGHT
BEGIN:STANDARD
TZOFFSETFROM:-0600
TZOFFSETTO:-0700
TZNAME:MST
DTSTART:20261101T080000
END:STANDARD
END:VTIMEZONE
BEGIN:VEVENT
DTSTART;TZID=America/Denver:20251224T120000
DTEND;TZID=America/Denver:20251224T120000
DTSTAMP:20260419T162452
CREATED:20251130T200114Z
LAST-MODIFIED:20251130T200559Z
UID:11835-1766577600-1766577600@albuquerqueaa.org
SUMMARY:Christmas Alcathon 2025
DESCRIPTION:Christmas Alcathon 2025 \nIn person and Online \nClick on flyer to download \n \nMore events at nm-aa.org
URL:https://albuquerqueaa.org/event/christmas-alcathon-2025/
LOCATION:Foothills Group\, 11607 Manaul Blvd NE\, Albuquerque\, NM\, 87112\, United States
END:VEVENT
BEGIN:VEVENT
DTSTART;TZID=America/Denver:20251219T180000
DTEND;TZID=America/Denver:20251219T203000
DTSTAMP:20260419T162452
CREATED:20251123T072943Z
LAST-MODIFIED:20251123T073158Z
UID:11774-1766167200-1766176200@albuquerqueaa.org
SUMMARY:Ugly Xmas Sweater Party!
DESCRIPTION:Ugly Xmas Sweater Party! \nClick flyer to download \n \nArea46 Calendar Link
URL:https://albuquerqueaa.org/event/ugly-xmas-sweater-party/
LOCATION:St. Francis Episcopal Church\, 2903 Cabezon Blvd SE\, Albuquerque\, NM\, 87124\, United States
END:VEVENT
BEGIN:VEVENT
DTSTART;TZID=America/Denver:20251217T173000
DTEND;TZID=America/Denver:20251217T193000
DTSTAMP:20260419T162452
CREATED:20251123T062110Z
LAST-MODIFIED:20251123T063405Z
UID:11748-1765992600-1765999800@albuquerqueaa.org
SUMMARY:SMBS Holiday Potluck 2025
DESCRIPTION:SMBS Holiday Potluck 2025 \nClick on flyer to download \n \nArea 46 events calendar
URL:https://albuquerqueaa.org/event/smbs-holiday-potluck-2025/
LOCATION:St. Mary’s Episcopal Church\, 1500 Chelwood Park Blvd NE\, Albuquerque\, NM\, 87112\, United States
END:VEVENT
BEGIN:VEVENT
DTSTART;TZID=America/Denver:20251215T183000
DTEND;TZID=America/Denver:20251215T193000
DTSTAMP:20260419T162452
CREATED:20251124T221900Z
LAST-MODIFIED:20251124T221904Z
UID:11780-1765823400-1765827000@albuquerqueaa.org
SUMMARY:Serenity Group Holiday Potluck
DESCRIPTION:Serenity Group Holiday Potluck \n \nClick flyer to download \nMore events at nm-aa.org
URL:https://albuquerqueaa.org/event/serenity-group-holiday-potluck/
LOCATION:St. Michael & All Angels Church\, 601 Montano Rd NW\, Albuquerque\, NM\, 87107\, United States
END:VEVENT
BEGIN:VEVENT
DTSTART;TZID=America/Denver:20251214T140000
DTEND;TZID=America/Denver:20251214T150000
DTSTAMP:20260419T162452
CREATED:20251213T042143Z
LAST-MODIFIED:20251214T204751Z
UID:11858-1765720800-1765724400@albuquerqueaa.org
SUMMARY:Intergroup Monthly Meeting
DESCRIPTION:Intergroup Monthly Meeting \nSecond Sunday Monthly \n \n 
URL:https://albuquerqueaa.org/event/intergroup-monthly-meeting/
LOCATION:Central Office\, 1900 Alvarado\, Albuquerque\, NM\, 87110\, United States
END:VEVENT
BEGIN:VEVENT
DTSTART;TZID=America/Denver:20251205T180000
DTEND;TZID=America/Denver:20251207T120000
DTSTAMP:20260419T162452
CREATED:20251123T072338Z
LAST-MODIFIED:20251123T072338Z
UID:11771-1764957600-1765108800@albuquerqueaa.org
SUMMARY:Area46 December Assembly
DESCRIPTION:Area46 December Assembly \nClick flyer to download \n \nArea46 Assemble Guide \nnm-aa.org
URL:https://albuquerqueaa.org/event/area46-december-assembly/
LOCATION:Atrisco Heritage Academy\, 10800 Dennis Chavez Blvd SW\, Albuquerque\, NM\, 87121\, United States
END:VEVENT
BEGIN:VEVENT
DTSTART;TZID=America/Denver:20251127T130000
DTEND;TZID=America/Denver:20251127T150000
DTSTAMP:20260419T162452
CREATED:20251123T071114Z
LAST-MODIFIED:20251124T234145Z
UID:11768-1764248400-1764255600@albuquerqueaa.org
SUMMARY:Foothills Thanksgiving Potluck
DESCRIPTION:Foothills Thanksgiving Potluck \nClick on flyer to download\n \nFoothills website link
URL:https://albuquerqueaa.org/event/foothills-thanksgiving-potluck/
LOCATION:Foothills Group\, 11607 Manaul Blvd NE\, Albuquerque\, NM\, 87112\, United States
END:VEVENT
BEGIN:VEVENT
DTSTART;TZID=America/Denver:20251127T120000
DTEND;TZID=America/Denver:20251127T150000
DTSTAMP:20260419T162452
CREATED:20251123T070427Z
LAST-MODIFIED:20251126T044713Z
UID:11765-1764244800-1764255600@albuquerqueaa.org
SUMMARY:Heights Club Thanksgiving Dinner
DESCRIPTION:Heights Club Thanksgiving Dinner \nClick on flyer to download\n \nHeights Club Link
URL:https://albuquerqueaa.org/event/heights-club-thanksgiving-dinner/
LOCATION:Heights Club\, 8520 Marble Ave NE\, Albuquerque\, NM\, 87110\, United States
END:VEVENT
BEGIN:VEVENT
DTSTART;TZID=America/Denver:20251127T120000
DTEND;TZID=America/Denver:20251127T150000
DTSTAMP:20260419T162452
CREATED:20251123T064514Z
LAST-MODIFIED:20251123T065344Z
UID:11759-1764244800-1764255600@albuquerqueaa.org
SUMMARY:Isleta Thanksgiving Potluck 2025
DESCRIPTION:Isleta Thanksgiving Potluck 2025 \nClick to flyer to download \n \narea46 calendar link
URL:https://albuquerqueaa.org/event/isleta-thanksgiving-potluck-2025/
LOCATION:Isleta Club\, 1829 Isleta Blvd SW\, Albuquerque\, NM\, 87105\, United States
END:VEVENT
BEGIN:VEVENT
DTSTART;TZID=America/Denver:20251031T190000
DTEND;TZID=America/Denver:20251031T200000
DTSTAMP:20260419T162452
CREATED:20251013T030231Z
LAST-MODIFIED:20251013T045049Z
UID:11556-1761937200-1761940800@albuquerqueaa.org
SUMMARY:Halloween Party-Rio Rancho
DESCRIPTION:Halloween Party-Rio Rancho \nFlyer Click
URL:https://albuquerqueaa.org/event/halloween-party-rio-rancho/
LOCATION:Anchor Point Church\, 6751 Pasilla RD NE\, Rio Rancho\, NM\, 87114\, United States
END:VEVENT
BEGIN:VEVENT
DTSTART;TZID=America/Denver:20251031T103000
DTEND;TZID=America/Denver:20251031T130000
DTSTAMP:20260419T162452
CREATED:20241110T042404Z
LAST-MODIFIED:20251013T043854Z
UID:10283-1761906600-1761915600@albuquerqueaa.org
SUMMARY:Halloween Dance
DESCRIPTION:Endorphin Power Company \nClick for Flyer
URL:https://albuquerqueaa.org/event/halloween-dance/
LOCATION:Endorphin Power Company\, 509 Cardenas Drive SE\, Albuquerque\, NM\, 87108\, United States
END:VEVENT
END:VCALENDAR